Workbook

Sheet January
A1: January | B1: =INSTRUCTIONS!B24 | N1: CONTENT CALENDAR
A2: ='Dates List'!M1 -> 2027 | C2: CHOOSE FROM DROPDOWN | E2: CHOOSE FROM DROPDOWN | F2: CHANNELS — ENTER 'x' or other text TO INDICATE
A3: WEEKLY TOPICS | B3: DESCRIPTION | C3: AREA OF FOCUS | D3: OWNER | E3: POST DATE | I3: OTHER | J3: WEB | K3: BLOG | L3: VIDEO | M3: EMAIL | N3: NOTES (Include repost schedules, links, etc.) | P3: Notable Events & Content Ideas
A4: {=CELL("contents",A1)&" 1 - 7 "} -> January 1 - 7 | E4: {=CELL("contents",A1)&" 1 - 7 "} -> January 1 - 7 | P4: Financial Wellness Month, New Year's Day (Jan. 1), Tax Season Begins (Jan. 15), Martin Luther King Jr. Day (Jan. 19), Data Privacy Week (Jan. 25-31), Staff Anniversaries/Birthdays
A10: {=CELL("contents",A1)&" 8 - 14 "} -> January 8 - 14 | E10: {=CELL("contents",A1)&" 8 - 14 "} -> January 8 - 14
A16: {=CELL("contents",A1)&" 15 - 21 "} -> January 15 - 21 | E16: {=CELL("contents",A1)&" 15 - 21 "} -> January 15 - 21
A22: {=CELL("contents",A1)&" 22 - 28 "} -> January 22 - 28 | E22: {=CELL("contents",A1)&" 22 - 28 "} -> January 22 - 28
A28: {=CELL("contents",A1)&" 29 - 31 "} -> January 29 - 31 | E28: {=CELL("contents",A1)&" 29 - 31 "} -> January 29 - 31

Sheet February
A1: February | B1: =INSTRUCTIONS!B24 | N1: CONTENT CALENDAR
A2: ='Dates List'!M1 -> 2027 | C2: CHOOSE FROM DROPDOWN | E2: CHOOSE FROM DROPDOWN | F2: CHANNELS — ENTER 'x' or other text TO INDICATE
A3: WEEKLY TOPICS | B3: DESCRIPTION | C3: AREA OF FOCUS | D3: OWNER | E3: POST DATE | I3: OTHER | J3: WEB | K3: BLOG | L3: VIDEO | M3: EMAIL | N3: NOTES (Include repost schedules, links, etc.) | P3: Notable Events & Content Ideas
A4: {=CELL("contents",A1)&" 1 - 7 "} -> February 1 - 7 | E4: {=CELL("contents",A1)&" 1 - 7 "} -> February 1 - 7 | P4: Black History Month, Safer Internet Day (Feb. 10), Valentine's Day (Feb. 14), President's Day (Feb. 16), National Caregivers Day (Feb. 20), Staff Anniversaries/Birthdays
A10: {=CELL("contents",A1)&" 8 - 14 "} -> February 8 - 14 | E10: {=CELL("contents",A1)&" 8 - 14 "} -> February 8 - 14
A16: {=CELL("contents",A1)&" 15 - 21 "} -> February 15 - 21 | E16: {=CELL("contents",A1)&" 15 - 21 "} -> February 15 - 21
A22: {=CELL("contents",A1)&" 22 - 28 "} -> February 22 - 28 | E22: {=CELL("contents",A1)&" 22 - 28 "} -> February 22 - 28

Sheet March
A1: March | B1: =INSTRUCTIONS!B24 | N1: CONTENT CALENDAR
A2: 2026 | C2: CHOOSE FROM DROPDOWN | E2: CHOOSE FROM DROPDOWN | F2: CHANNELS — ENTER 'x' or other text TO INDICATE
A3: WEEKLY TOPICS | B3: DESCRIPTION | C3: AREA OF FOCUS | D3: OWNER | E3: POST DATE | I3: OTHER | J3: WEB | K3: BLOG | L3: VIDEO | M3: EMAIL | N3: NOTES (Include repost schedules, links, etc.) | P3: Notable Events & Content Ideas
A4: {=CELL("contents",A1)&" 1 - 7 "} -> March 1 - 7 | E4: {=CELL("contents",A1)&" 1 - 7 "} -> March 1 - 7 | P4: Credit Education Month, Women's History Month, ICBA Live (mid-March), Daylight Savings Time Starts (March 8), National Agriculture Week (March 15-21), Easter (March 28), Staff Anniversaries/Birthdays
A10: {=CELL("contents",A1)&" 8 - 14 "} -> March 8 - 14 | E10: {=CELL("contents",A1)&" 8 - 14 "} -> March 8 - 14
A16: {=CELL("contents",A1)&" 15 - 21 "} -> March 15 - 21 | E16: {=CELL("contents",A1)&" 15 - 21 "} -> March 15 - 21
A22: {=CELL("contents",A1)&" 22 - 28 "} -> March 22 - 28 | E22: {=CELL("contents",A1)&" 22 - 28 "} -> March 22 - 28
A28: {=CELL("contents",A1)&" 29 - 31 "} -> March 29 - 31 | E28: {=CELL("contents",A1)&" 29 - 31 "} -> March 29 - 31

Sheet April
A1: April | B1: =INSTRUCTIONS!B24 | N1: CONTENT CALENDAR
A2: ='Dates List'!M1 -> 2027 | C2: CHOOSE FROM DROPDOWN | E2: CHOOSE FROM DROPDOWN | F2: CHANNELS — ENTER 'x' or other text TO INDICATE
A3: WEEKLY TOPICS | B3: DESCRIPTION | C3: AREA OF FOCUS | D3: OWNER | E3: POST DATE | I3: OTHER | J3: WEB | K3: BLOG | L3: VIDEO | M3: EMAIL | N3: NOTES (Include repost schedules, links, etc.) | P3: Notable Events & Content Ideas
A4: {=CELL("contents",A1)&" 1 - 7 "} -> April 1 - 7 | E4: {=CELL("contents",A1)&" 1 - 7 "} -> April 1 - 7 | P4: Community Banking Month, Financial Literacy Month, America Saves Week, Tax Day (April 15), Earth Day (April 22), Staff Anniversaries/Birthdays
A10: {=CELL("contents",A1)&" 8 - 14 "} -> April 8 - 14 | E10: {=CELL("contents",A1)&" 8 - 14 "} -> April 8 - 14
A16: {=CELL("contents",A1)&" 15 - 21 "} -> April 15 - 21 | E16: {=CELL("contents",A1)&" 15 - 21 "} -> April 15 - 21
A22: {=CELL("contents",A1)&" 22 - 28 "} -> April 22 - 28 | E22: {=CELL("contents",A1)&" 22 - 28 "} -> April 22 - 28
A28: {=CELL("contents",A1)&" 29 - 30"} -> April 29 - 30 | E28: {=CELL("contents",A1)&" 29 - 30 "} -> April 29 - 30

Sheet May
A1: May | B1: =INSTRUCTIONS!B24 | N1: CONTENT CALENDAR
A2: ='Dates List'!M1 -> 2027 | C2: CHOOSE FROM DROPDOWN | E2: CHOOSE FROM DROPDOWN | F2: CHANNELS — ENTER 'x' or other text TO INDICATE
A3: WEEKLY TOPICS | B3: DESCRIPTION | C3: AREA OF FOCUS | D3: OWNER | E3: POST DATE | I3: OTHER | J3: WEB | K3: BLOG | L3: VIDEO | M3: EMAIL | N3: NOTES (Include repost schedules, links, etc.) | P3: Notable Events & Content Ideas
A4: {=CELL("contents",A1)&" 1 - 7 "} -> May 1 - 7 | E4: {=CELL("contents",A1)&" 1 - 7 "} -> May 1 - 7 | P4: Military Appreciation Month, Graduation Month, Small Business Week, ICBA Capital Summit, Memorial Day, Mother's Day (May 9), 529 College Savings Day, Staff Anniversaries/Birthdays
A10: {=CELL("contents",A1)&" 8 - 14 "} -> May 8 - 14 | E10: {=CELL("contents",A1)&" 8 - 14 "} -> May 8 - 14
A16: {=CELL("contents",A1)&" 15 - 21 "} -> May 15 - 21 | E16: {=CELL("contents",A1)&" 15 - 21 "} -> May 15 - 21
A22: {=CELL("contents",A1)&" 22 - 28 "} -> May 22 - 28 | E22: {=CELL("contents",A1)&" 22 - 28 "} -> May 22 - 28
A28: {=CELL("contents",A1)&" 29 - 31 "} -> May 29 - 31 | E28: {=CELL("contents",A1)&" 29 - 31 "} -> May 29 - 31

Sheet June
A1: June | B1: =INSTRUCTIONS!B24 | N1: CONTENT CALENDAR
A2: ='Dates List'!M1 -> 2027 | C2: CHOOSE FROM DROPDOWN | E2: CHOOSE FROM DROPDOWN | F2: CHANNELS — ENTER 'x' or other text TO INDICATE
A3: WEEKLY TOPICS | B3: DESCRIPTION | C3: AREA OF FOCUS | D3: OWNER | E3: POST DATE | I3: OTHER | J3: WEB | K3: BLOG | L3: VIDEO | M3: EMAIL | N3: NOTES (Include repost schedules, links, etc.) | P3: Notable Events & Content Ideas
A4: {=CELL("contents",A1)&" 1 - 7 "} -> June 1 - 7 | E4: {=CELL("contents",A1)&" 1 - 7 "} -> June 1 - 7 | P4: National Homeownership Month, Pride Month, World Elder Abuse Awareness Day, Juneteenth (June 19), Father's Day (June 20), Summer Vacation Planning, Staff Anniversaries/Birthdays
A10: {=CELL("contents",A1)&" 8 - 14 "} -> June 8 - 14 | E10: {=CELL("contents",A1)&" 8 - 14 "} -> June 8 - 14
A16: {=CELL("contents",A1)&" 15 - 21 "} -> June 15 - 21 | E16: {=CELL("contents",A1)&" 15 - 21 "} -> June 15 - 21
A22: {=CELL("contents",A1)&" 22 - 28 "} -> June 22 - 28 | E22: {=CELL("contents",A1)&" 22 - 28 "} -> June 22 - 28
A28: {=CELL("contents",A1)&" 29 - 30 "} -> June 29 - 30 | E28: {=CELL("contents",A1)&" 29 - 30 "} -> June 29 - 30

Sheet July
A1: July | B1: =INSTRUCTIONS!B24 | N1: CONTENT CALENDAR
A2: ='Dates List'!M1 -> 2027 | C2: CHOOSE FROM DROPDOWN | E2: CHOOSE FROM DROPDOWN | F2: CHANNELS — ENTER 'x' or other text TO INDICATE
A3: WEEKLY TOPICS | B3: DESCRIPTION | C3: AREA OF FOCUS | D3: OWNER | E3: POST DATE | I3: OTHER | J3: WEB | K3: BLOG | L3: VIDEO | M3: EMAIL | N3: NOTES (Include repost schedules, links, etc.) | P3: Notable Events & Content Ideas
A4: {=CELL("contents",A1)&" 1 - 7 "} -> July 1 - 7 | E4: {=CELL("contents",A1)&" 1 - 7 "} -> July 1 - 7 | P4: Independence Day (July 4), Peak Travel Season, Back-to-School Savings Time, Staff Anniversaries/Birthdays
A10: {=CELL("contents",A1)&" 8 - 14 "} -> July 8 - 14 | E10: {=CELL("contents",A1)&" 8 - 14 "} -> July 8 - 14
A16: {=CELL("contents",A1)&" 15 - 21 "} -> July 15 - 21 | E16: {=CELL("contents",A1)&" 15 - 21 "} -> July 15 - 21
A22: {=CELL("contents",A1)&" 22 - 28 "} -> July 22 - 28 | E22: {=CELL("contents",A1)&" 22 - 28 "} -> July 22 - 28
A28: {=CELL("contents",A1)&" 29 - 31 "} -> July 29 - 31 | E28: {=CELL("contents",A1)&" 29 - 31 "} -> July 29 - 31

Sheet August
A1: August | B1: =INSTRUCTIONS!B24 | N1: CONTENT CALENDAR
A2: ='Dates List'!M1 -> 2027 | C2: CHOOSE FROM DROPDOWN | E2: CHOOSE FROM DROPDOWN | F2: CHANNELS — ENTER 'x' or other text TO INDICATE
A3: WEEKLY TOPICS | B3: DESCRIPTION | C3: AREA OF FOCUS | D3: OWNER | E3: POST DATE | I3: OTHER | J3: WEB | K3: BLOG | L3: VIDEO | M3: EMAIL | N3: NOTES (Include repost schedules, links, etc.) | P3: Notable Events & Content Ideas
A4: {=CELL("contents",A1)&" 1 - 7 "} -> August 1 - 7 | E4: {=CELL("contents",A1)&" 1 - 7 "} -> August 1 - 7 | P4: National Financial Awareness Day (Aug. 14), Back-to-School Season, Staff Anniversaries/Birthdays
A10: {=CELL("contents",A1)&" 8 - 14 "} -> August 8 - 14 | E10: {=CELL("contents",A1)&" 8 - 14 "} -> August 8 - 14
A16: {=CELL("contents",A1)&" 15 - 21 "} -> August 15 - 21 | E16: {=CELL("contents",A1)&" 15 - 21 "} -> August 15 - 21
A22: {=CELL("contents",A1)&" 22 - 28 "} -> August 22 - 28 | E22: {=CELL("contents",A1)&" 22 - 28 "} -> August 22 - 28
A28: {=CELL("contents",A1)&" 29 - 31 "} -> August 29 - 31 | E28: {=CELL("contents",A1)&" 29 - 31 "} -> August 29 - 31

Sheet September
A1: September | B1: =INSTRUCTIONS!B24 | N1: CONTENT CALENDAR
A2: ='Dates List'!M1 -> 2027 | C2: CHOOSE FROM DROPDOWN | E2: CHOOSE FROM DROPDOWN | F2: CHANNELS — ENTER 'x' or other text TO INDICATE
A3: WEEKLY TOPICS | B3: DESCRIPTION | C3: AREA OF FOCUS | D3: OWNER | E3: POST DATE | I3: OTHER | J3: WEB | K3: BLOG | L3: VIDEO | M3: EMAIL | N3: NOTES (Include repost schedules, links, etc.) | P3: Notable Events & Content Ideas
A4: {=CELL("contents",A1)&" 1 - 7 "} -> September 1 - 7 | E4: {=CELL("contents",A1)&" 1 - 7 "} -> September 1 - 7 | P4: National Preparedness Month, Labor Day (Sept. 6), Staff Anniversaries/Birthdays
A10: {=CELL("contents",A1)&" 8 - 14 "} -> September 8 - 14 | E10: {=CELL("contents",A1)&" 8 - 14 "} -> September 8 - 14
A16: {=CELL("contents",A1)&" 15 - 21 "} -> September 15 - 21 | E16: {=CELL("contents",A1)&" 15 - 21 "} -> September 15 - 21
A22: {=CELL("contents",A1)&" 22 - 28 "} -> September 22 - 28 | E22: {=CELL("contents",A1)&" 22 - 28 "} -> September 22 - 28
A28: {=CELL("contents",A1)&" 29 - 30 "} -> September 29 - 30 | E28: {=CELL("contents",A1)&" 29 - 30 "} -> September 29 - 30

Sheet October
A1: October | B1: =INSTRUCTIONS!B24 | N1: CONTENT CALENDAR
A2: ='Dates List'!M1 -> 2027 | C2: CHOOSE FROM DROPDOWN | E2: CHOOSE FROM DROPDOWN | F2: CHANNELS — ENTER 'x' or other text TO INDICATE
A3: WEEKLY TOPICS | B3: DESCRIPTION | C3: AREA OF FOCUS | D3: OWNER | E3: POST DATE | I3: OTHER | J3: WEB | K3: BLOG | L3: VIDEO | M3: EMAIL | N3: NOTES (Include repost schedules, links, etc.) | P3: Notable Events & Content Ideas
A4: {=CELL("contents",A1)&" 1 - 7 "} -> October 1 - 7 | E4: {=CELL("contents",A1)&" 1 - 7 "} -> October 1 - 7 | P4: Cybersecurity Awareness Month, Columbus Day/Indigenous Peoples' Day (Oct. 11), Halloween (Oct. 31), Staff Anniversaries/Birthdays
A10: {=CELL("contents",A1)&" 8 - 14 "} -> October 8 - 14 | E10: {=CELL("contents",A1)&" 8 - 14 "} -> October 8 - 14
A16: {=CELL("contents",A1)&" 15 - 21 "} -> October 15 - 21 | E16: {=CELL("contents",A1)&" 15 - 21 "} -> October 15 - 21
A22: {=CELL("contents",A1)&" 22 - 28 "} -> October 22 - 28 | E22: {=CELL("contents",A1)&" 22 - 28 "} -> October 22 - 28
A28: {=CELL("contents",A1)&" 29 - 31 "} -> October 29 - 31 | E28: {=CELL("contents",A1)&" 29 - 31 "} -> October 29 - 31

Sheet November
A1: November | B1: =INSTRUCTIONS!B24 | N1: CONTENT CALENDAR
A2: ='Dates List'!M1 -> 2027 | C2: CHOOSE FROM DROPDOWN | E2: CHOOSE FROM DROPDOWN | F2: CHANNELS — ENTER 'x' or other text TO INDICATE
A3: WEEKLY TOPICS | B3: DESCRIPTION | C3: AREA OF FOCUS | D3: OWNER | E3: POST DATE | I3: OTHER | J3: WEB | K3: BLOG | L3: VIDEO | M3: EMAIL | N3: NOTES (Include repost schedules, links, etc.) | P3: Notable Events & Content Ideas
A4: {=CELL("contents",A1)&" 1 - 7 "} -> November 1 - 7 | E4: {=CELL("contents",A1)&" 1 - 7 "} -> November 1 - 7 | P4: Veterans Day (Nov. 11), Thanksgiving (Nov. 25), Black Friday/Cyber Monday Safety, Giving Tuesday (Nov. 30), Staff Anniversaries/Birthdays
A10: {=CELL("contents",A1)&" 8 - 14 "} -> November 8 - 14 | E10: {=CELL("contents",A1)&" 8 - 14 "} -> November 8 - 14
A16: {=CELL("contents",A1)&" 15 - 21 "} -> November 15 - 21 | E16: {=CELL("contents",A1)&" 15 - 21 "} -> November 15 - 21
A22: {=CELL("contents",A1)&" 22 - 28 "} -> November 22 - 28 | E22: {=CELL("contents",A1)&" 22 - 28 "} -> November 22 - 28
A28: {=CELL("contents",A1)&" 29 - 30 "} -> November 29 - 30 | E28: {=CELL("contents",A1)&" 29 - 30 "} -> November 29 - 30

Sheet December
A1: December | B1: =INSTRUCTIONS!B24 | N1: CONTENT CALENDAR
A2: ='Dates List'!M1 -> 2027 | C2: CHOOSE FROM DROPDOWN | E2: CHOOSE FROM DROPDOWN | F2: CHANNELS — ENTER 'x' or other text TO INDICATE
A3: WEEKLY TOPICS | B3: DESCRIPTION | C3: AREA OF FOCUS | D3: OWNER | E3: POST DATE | I3: OTHER | J3: WEB | K3: BLOG | L3: VIDEO | M3: EMAIL | N3: NOTES (Include repost schedules, links, etc.) | P3: Notable Events & Content Ideas
A4: {=CELL("contents",A1)&" 1 - 7 "} -> December 1 - 7 | E4: {=CELL("contents",A1)&" 1 - 7 "} -> December 1 - 7 | P4: Year-End Financial Checklist, Hanukkah (Dec. 24), Christmas Day (Dec. 25), Shop Local Season, Holiday Budgeting Tips, Staff Anniversaries/Birthdays
A10: {=CELL("contents",A1)&" 8 - 14 "} -> December 8 - 14 | E10: {=CELL("contents",A1)&" 8 - 14 "} -> December 8 - 14
A16: {=CELL("contents",A1)&" 15 - 21 "} -> December 15 - 21 | E16: {=CELL("contents",A1)&" 15 - 21 "} -> December 15 - 21
A22: {=CELL("contents",A1)&" 22 - 28 "} -> December 22 - 28 | E22: {=CELL("contents",A1)&" 22 - 28 "} -> December 22 - 28
A28: {=CELL("contents",A1)&" 29 - 31 "} -> December 29 - 31 | E28: {=CELL("contents",A1)&" 29 - 31 "} -> December 29 - 31
A34: IMPORTANT: See the hidden worksheet "Dates List" for instructions on HOW TO ANNUALLY UPDATE THE DATES for next year!

Sheet Areas of Focus
A1: AREA OF FOCUS KEY This is where the AREA OF FOCUS cells in each monthly worksheet pull text for the dropdown menu. | B1: Please hide this worksheet. INSTRUCTIONS and NOTES (see INSTRUCTIONS worksheet for more info): Only cells A2 thru A12 on this worksheet are part of the Data Variation dropdown list. Additional entries in the list can be added in cells A8 thru A12. Conditional Formatting (cell color format) will need to be assigned to each new area cell added. (See INSTRUCTIONS worksheet for details.)
A2: Product/Service Promotional
A3: Community & Employee Relations
A4: Events
A5: Holiday
A6: Education
A7: Entertainment
A8: Hiring
A9: Other
A10: A10
A11: A11
A12: A12

Sheet Dates List
A1: 46388 | B1: 46419 | C1: 46447 | D1: 46478 | E1: 46508 | F1: 46539 | G1: 46569 | H1: 46600 | I1: 46631 | J1: 46661 | K1: 46692 | L1: 46722 | M1: 2027 | N1: INSTRUCTIONS and NOTES (see INSTRUCTIONS worksheet for more info):
A2: 46389 | B2: 46420 | C2: 46448 | D2: 46479 | E2: 46509 | F2: 46540 | G2: 46570 | H2: 46601 | I2: 46632 | J2: 46662 | K2: 46693 | L2: 46723 | N2: Please hide this worksheet when not in use.
A3: 46390 | B3: 46421 | C3: 46449 | D3: 46480 | E3: 46510 | F3: 46541 | G3: 46571 | H3: 46602 | I3: 46633 | J3: 46663 | K3: 46694 | L3: 46724
A4: 46391 | B4: 46422 | C4: 46450 | D4: 46481 | E4: 46511 | F4: 46542 | G4: 46572 | H4: 46603 | I4: 46634 | J4: 46664 | K4: 46695 | L4: 46725 | N4: This Dates List worksheet is where the POST DATE dropdown menu pulls text for each month's worksheet.
A5: 46392 | B5: 46423 | C5: 46451 | D5: 46482 | E5: 46512 | F5: 46543 | G5: 46573 | H5: 46604 | I5: 46635 | J5: 46665 | K5: 46696 | L5: 46726 | N5: Each column on this worksheet is a month of dates. (One day per cell.)
A6: 46393 | B6: 46424 | C6: 46452 | D6: 46483 | E6: 46513 | F6: 46544 | G6: 46574 | H6: 46605 | I6: 46636 | J6: 46666 | K6: 46697 | L6: 46727 | N6: Date is entered in the formula field as mm/dd/yyyy.
A7: 46394 | B7: 46425 | C7: 46453 | D7: 46484 | E7: 46514 | F7: 46545 | G7: 46575 | H7: 46606 | I7: 46637 | J7: 46667 | K7: 46698 | L7: 46728 | N7: The cell format is "Custom" which displays the date in the cell as "Day, Month Date" using the formula "[$-en-US]ddd, mmm dd".
A8: 46395 | B8: 46426 | C8: 46454 | D8: 46485 | E8: 46515 | F8: 46546 | G8: 46576 | H8: 46607 | I8: 46638 | J8: 46668 | K8: 46699 | L8: 46729
A9: 46396 | B9: 46427 | C9: 46455 | D9: 46486 | E9: 46516 | F9: 46547 | G9: 46577 | H9: 46608 | I9: 46639 | J9: 46669 | K9: 46700 | L9: 46730 | N9: HOW TO ANNUALLY UPDATE THE DATES - each new year will require updating of this list. Here are instructions to update to a new year …
A10: 46397 | B10: 46428 | C10: 46456 | D10: 46487 | E10: 46517 | F10: 46548 | G10: 46578 | H10: 46609 | I10: 46640 | J10: 46670 | K10: 46701 | L10: 46731 | N10: 1. To update dates – use "Edit>Find>Replace..." to search this entire "Dates List" worksheet and replace the current year with the new year (i.e.. replace 2023 with 2027).
A11: 46398 | B11: 46429 | C11: 46457 | D11: 46488 | E11: 46518 | F11: 46549 | G11: 46579 | H11: 46610 | I11: 46641 | J11: 46671 | K11: 46702 | L11: 46732 | N11: After replacing the year, the day/dates in the columns will automatically update to the correct day of the week for that year.
A12: 46399 | B12: 46430 | C12: 46458 | D12: 46489 | E12: 46519 | F12: 46550 | G12: 46580 | H12: 46611 | I12: 46642 | J12: 46672 | K12: 46703 | L12: 46733 | N12: 2. Update the Year in cell M1 – This will update the Year at the top left of each tab.
A13: 46400 | B13: 46431 | C13: 46459 | D13: 46490 | E13: 46520 | F13: 46551 | G13: 46581 | H13: 46612 | I13: 46643 | J13: 46673 | K13: 46704 | L13: 46734 | N13: (See INSTRUCTIONS worksheet for details.)
A14: 46401 | B14: 46432 | C14: 46460 | D14: 46491 | E14: 46521 | F14: 46552 | G14: 46582 | H14: 46613 | I14: 46644 | J14: 46674 | K14: 46705 | L14: 46735
A15: 46402 | B15: 46433 | C15: 46461 | D15: 46492 | E15: 46522 | F15: 46553 | G15: 46583 | H15: 46614 | I15: 46645 | J15: 46675 | K15: 46706 | L15: 46736
A16: 46403 | B16: 46434 | C16: 46462 | D16: 46493 | E16: 46523 | F16: 46554 | G16: 46584 | H16: 46615 | I16: 46646 | J16: 46676 | K16: 46707 | L16: 46737
A17: 46404 | B17: 46435 | C17: 46463 | D17: 46494 | E17: 46524 | F17: 46555 | G17: 46585 | H17: 46616 | I17: 46647 | J17: 46677 | K17: 46708 | L17: 46738
A18: 46405 | B18: 46436 | C18: 46464 | D18: 46495 | E18: 46525 | F18: 46556 | G18: 46586 | H18: 46617 | I18: 46648 | J18: 46678 | K18: 46709 | L18: 46739
A19: 46406 | B19: 46437 | C19: 46465 | D19: 46496 | E19: 46526 | F19: 46557 | G19: 46587 | H19: 46618 | I19: 46649 | J19: 46679 | K19: 46710 | L19: 46740
A20: 46407 | B20: 46438 | C20: 46466 | D20: 46497 | E20: 46527 | F20: 46558 | G20: 46588 | H20: 46619 | I20: 46650 | J20: 46680 | K20: 46711 | L20: 46741
A21: 46408 | B21: 46439 | C21: 46467 | D21: 46498 | E21: 46528 | F21: 46559 | G21: 46589 | H21: 46620 | I21: 46651 | J21: 46681 | K21: 46712 | L21: 46742
A22: 46409 | B22: 46440 | C22: 46468 | D22: 46499 | E22: 46529 | F22: 46560 | G22: 46590 | H22: 46621 | I22: 46652 | J22: 46682 | K22: 46713 | L22: 46743
A23: 46410 | B23: 46441 | C23: 46469 | D23: 46500 | E23: 46530 | F23: 46561 | G23: 46591 | H23: 46622 | I23: 46653 | J23: 46683 | K23: 46714 | L23: 46744
A24: 46411 | B24: 46442 | C24: 46470 | D24: 46501 | E24: 46531 | F24: 46562 | G24: 46592 | H24: 46623 | I24: 46654 | J24: 46684 | K24: 46715 | L24: 46745
A25: 46412 | B25: 46443 | C25: 46471 | D25: 46502 | E25: 46532 | F25: 46563 | G25: 46593 | H25: 46624 | I25: 46655 | J25: 46685 | K25: 46716 | L25: 46746
... A28: 46415 | B28: 46446 | C28: 46474 | D28: 46505 | E28: 46535 | F28: 46566 | G28: 46596 | H28: 46627 | I28: 46658 | J28: 46688 | K28: 46719 | L28: 46749
A29: 46416 | C29: 46475 | D29: 46506 | E29: 46536 | F29: 46567 | G29: 46597 | H29: 46628 | I29: 46659 | J29: 46689 | K29: 46720 | L29: 46750
A30: 46417 | C30: 46476 | D30: 46507 | E30: 46537 | F30: 46568 | G30: 46598 | H30: 46629 | I30: 46660 | J30: 46690 | K30: 46721 | L30: 46751
A31: 46418 | C31: 46477 | E31: 46538 | G31: 46599 | H31: 46630 | J31: 46691 | L31: 46752
A33: January | B33: February | C33: March | D33: April | E33: May | F33: June | G33: July | H33: August | I33: September | J33: October | K33: November | L33: December
A34: A | B34: B | C34: C | D34: D | E34: E | F34: F | G34: G | H34: H | I34: I | J34: J | K34: K | L34: L

Sheet INSTRUCTIONS
A1: You may hide this worksheet if you prefer.
A3: THIS TEMPLATE CREATED BY:
A4: MILLS MARKETING | B4: This template cannot be used or altered without express permission from Mills Marketing.
A5: 888-733-4899 or 515.277.6525
A6: inquiries@millsmarketing.com | B6: … or contact your Mills Account Manager.
A8: How to use monthly worksheets …
A10: Enter WEEKLY TOPICS and DESCRIPTION … | B10: Insert a row if you need to add more topics in the week section.
A11: AREA OF FOCUS: | B11: Choose from the dropdown menu in each cell. Additional Areas of Focus can be added, see "Formatting and Automation NOTES" below.
A12: POST DATE: | B12: Choose from the dropdown menu in each cell. Date will need to changed annually to match the current year, see "Formatting and Automation NOTES" below.
A13: CHANNELS: | B13: Enter any text in the cell and it will change color to indicate the channel to be used.
A14: Other ... Observances and Holidays: | B14: This text area is indented to list related information that may be used for content.
A16: If a TOPIC repeats in another week or into other months: | B16: Copy the row and insert/paste it in the section or worksheet where it repeats. You will need to update the POST DATE cell. (See below.)
A17: To update POST DATE cell dropdown: | B17: To make the POST DATE cell dropdown match the month/week section in which you duplicated a copied row, paste in a copy of another Post Date cell from that section.
A18: To clear data from the worksheet: | B18: Select only the cells within the section for each week and "Clear…Contents"
A19: DO NOT DELETE ANY MONTH'S WORKSHEET – | B19: Each month's worksheet has specific individual formulas for that month. Duplicating (copying) a worksheet may break POST DATE dropdowns.
A21: Client Personalization for worksheets: (unhide the rows below)
A22: 1. Enter Contact information … in the red box to the right. The information entered there will appear (auto populate) at the top right of each month's worksheet. | B22: Contact: Ryan Pleggenkuhle ryanp@millsmarketing.com
A24: 2. Enter FI's Name Here –> This places the FI name at the top of each month's worksheet.
A25: If you prefer the FI's logo on each page: | B25: You need to ... 1) In the blue outlined cell above, delete the "FI Name Here" and replace with a space bar so the text is removed from each Month's Tab. 2) Go to the first Month's Tab (January) and place and size your logo. 3) Then copy the logo and manually paste the logo on each month's worksheet. It will paste at the location of the active cell on each page. Locking the picture to move with the cell is recommended (check "move and size with cells" in picture shape format to lock the picture to the cell).
A27: 3. Choose Channel Listings … FI may not need to use all channels. | B27: Hide (or delete) columns (channels) that do not apply. Pictures of social media icons are locked so they move with the cell or are deleted with the column.
A29: Formatting and Automation NOTES for each monthly worksheet:
A31: How to auto populate month in the Weekly Topics "Month # - #" and "Other…" list Subheads: | B31: Enter the month (text) in cell A1 and it will auto populate the subheads for each week's section bar and the subhead for the "Other Monthly Observances and Holidays" list in that month's worksheet.
A34: AREA OF FOCUS
A35: About the AREA OF FOCUS column: | B35: The cells in the AREA OF FOCUS column have their own dropdown menu (with room for up to 11 areas).
A36: "Areas of Focus" worksheet: | B36: The Areas of Focus worksheet is a hidden worksheet used to house the data used in the dropdown menu. The dropdown menu is created using Data Validation (under the Data tab).
A37: AREA OF FOCUS cell color formats: | B37: To assign the cell color of the areas of focus, the Conditional Formatting Rules (under Home) for AREA OF FOCUS cells in each spreadsheet were created. If more areas are added, then Conditional Formatting (cell color) will need to be assigned to each new area in each worksheet.
A38: How to ADD additional Areas of Focus: | B38: Unhide the Areas of Focus worksheet. Enter new text in any of the open cells (that show the cell name "A#"). Then in each worksheet, select the cells that need updating, click on Data Validation and add the cell from the "Areas of Focus" worksheet. Then with the same cells on the month worksheet selected, go to the Conditional Formatting Rules and enter the same new text in the rule that matches the new area of focus cell text.
A40: Post Dates
A41: About the POST DATE column: | B41: The cells in the POST DATE column have their own dropdown menu with the day and date for each day in that week.
A42: Post Dates: | B42: The dropdown menus for Post Dates (pulls info from hidden worksheet "Dates List").
A43: Dates List worksheet: | B43: The Dates List worksheet is a hidden worksheet used to house the data used in the dropdown menus. The dropdown menu is created using Data Validation (under the Data tab). Instructions for updating each year are included in the "Dates List" hidden worksheet.
A45: Channel Listings
A46: Channel List Indicators: | B46: Enter any text in the cell and it will change color to indicate the channel. Conditional Formatting Rules are used to indicate the cell's color fill.
A47: Channel List Icons: | B47: Pictures of social media icons are locked so they move with the cell.
A49: Locking Cells in monthly worksheets: Check the boxes indiated to the right when protecting the sheets.
